BEGIN:VCALENDAR
VERSION:2.0
CALSCALE:GREGORIAN
PRODID:-//Diputació de Barcelona//DibaCMS//EN
BEGIN:VEVENT
UID:9530
DTSTAMP:20260422T193836
DTSTART:20220514T134500
DTEND:20220514T160000
SUMMARY:Musclada i arrossada Caliu
LOCATION:
METHOD:PUBLISH
X-WR-CALNAME:vallgorguina@vallgorguina.cat
X-WR-TIMEZONE:Europe/Madrid
DESCRIPTION:
URI:https://www.vallgorguina.cat/actualitat/agenda/musclada-i-arrossada-caliu.html
CLASS:PUBLIC
END:VEVENT
END:VCALENDAR
