BEGIN:VCALENDAR
VERSION:2.0
CALSCALE:GREGORIAN
PRODID:-//Diputació de Barcelona//DibaCMS//EN
BEGIN:VEVENT
UID:9549
DTSTAMP:20260422T215747
DTSTART:20220805T090000
DTEND:20220807T230000
SUMMARY:Festa del barri de Baronia del Montseny
LOCATION:
METHOD:PUBLISH
X-WR-CALNAME:vallgorguina@vallgorguina.cat
X-WR-TIMEZONE:Europe/Madrid
DESCRIPTION:
URI:https://www.vallgorguina.cat/actualitat/agenda/festa-del-barri-de-baronia-del-montseny.html
CLASS:PUBLIC
END:VEVENT
END:VCALENDAR
