BEGIN:VCALENDAR
VERSION:2.0
CALSCALE:GREGORIAN
PRODID:-//Diputació de Barcelona//DibaCMS//EN
BEGIN:VEVENT
UID:9551
DTSTAMP:20260422T221141
DTSTART:20220618T113000
DTEND:20220618T180000
SUMMARY:XXXIII Festa Caliu
LOCATION:
METHOD:PUBLISH
X-WR-CALNAME:vallgorguina@vallgorguina.cat
X-WR-TIMEZONE:Europe/Madrid
DESCRIPTION:
URI:https://www.vallgorguina.cat/actualitat/agenda/9551-xxxiii-festa-caliu.html
CLASS:PUBLIC
END:VEVENT
END:VCALENDAR
