BEGIN:VCALENDAR
VERSION:2.0
CALSCALE:GREGORIAN
PRODID:-//Diputació de Barcelona//DibaCMS//EN
BEGIN:VEVENT
UID:9555
DTSTAMP:20260422T200044
DTSTART:20220605T113000
DTEND:20220605T130000
SUMMARY:Jornada solidària per Rwanada
LOCATION:
METHOD:PUBLISH
X-WR-CALNAME:vallgorguina@vallgorguina.cat
X-WR-TIMEZONE:Europe/Madrid
DESCRIPTION:
URI:https://www.vallgorguina.cat/actualitat/agenda/jornada-solidaria-per-rwanada.html
CLASS:PUBLIC
END:VEVENT
END:VCALENDAR
