BEGIN:VCALENDAR
VERSION:2.0
CALSCALE:GREGORIAN
PRODID:-//Diputació de Barcelona//DibaCMS//EN
BEGIN:VEVENT
UID:9571
DTSTAMP:20260422T215933
DTSTART:20220528T100000
DTEND:20220528T120000
SUMMARY:Xerrada gratuïta sobre l'aprenentatge
LOCATION:
METHOD:PUBLISH
X-WR-CALNAME:vallgorguina@vallgorguina.cat
X-WR-TIMEZONE:Europe/Madrid
DESCRIPTION:
URI:https://www.vallgorguina.cat/actualitat/agenda/xerrada-gratuita-sobre-laprenentatge.html
CLASS:PUBLIC
END:VEVENT
END:VCALENDAR
