BEGIN:VCALENDAR
VERSION:2.0
CALSCALE:GREGORIAN
PRODID:-//Diputació de Barcelona//DibaCMS//EN
BEGIN:VEVENT
UID:9588
DTSTAMP:20260422T215550
DTSTART:20220730T190000
DTEND:20220730T230000
SUMMARY:Tapes musicals
LOCATION:
METHOD:PUBLISH
X-WR-CALNAME:vallgorguina@vallgorguina.cat
X-WR-TIMEZONE:Europe/Madrid
DESCRIPTION:
URI:https://www.vallgorguina.cat/actualitat/agenda/tapes-musicals.html
CLASS:PUBLIC
END:VEVENT
END:VCALENDAR
