BEGIN:VCALENDAR
VERSION:2.0
CALSCALE:GREGORIAN
PRODID:-//Diputació de Barcelona//DibaCMS//EN
BEGIN:VEVENT
UID:9644
DTSTAMP:20260422T220239
DTSTART:20220729T200000
DTEND:20220731T130000
SUMMARY:Festa Major Canadà Parc
LOCATION:
METHOD:PUBLISH
X-WR-CALNAME:vallgorguina@vallgorguina.cat
X-WR-TIMEZONE:Europe/Madrid
DESCRIPTION:
URI:https://www.vallgorguina.cat/actualitat/agenda/9644-festa-major-canada-parc.html
CLASS:PUBLIC
END:VEVENT
END:VCALENDAR
