BEGIN:VCALENDAR
VERSION:2.0
CALSCALE:GREGORIAN
PRODID:-//Diputació de Barcelona//DibaCMS//EN
BEGIN:VEVENT
UID:9653
DTSTAMP:20260423T064004
DTSTART:20220815T210000
DTEND:20220816T010000
SUMMARY:Sopar a la fresca i música 70-80
LOCATION:
METHOD:PUBLISH
X-WR-CALNAME:vallgorguina@vallgorguina.cat
X-WR-TIMEZONE:Europe/Madrid
DESCRIPTION:
URI:https://www.vallgorguina.cat/actualitat/agenda/sopar-a-la-fresca-i-musica-70-80.html
CLASS:PUBLIC
END:VEVENT
END:VCALENDAR
