BEGIN:VCALENDAR
VERSION:2.0
CALSCALE:GREGORIAN
PRODID:-//Diputació de Barcelona//DibaCMS//EN
BEGIN:VEVENT
UID:9654
DTSTAMP:20260423T082541
DTSTART:20220811T170000
DTEND:20220811T203000
SUMMARY:Futbol sala infantil 11/8
LOCATION:
METHOD:PUBLISH
X-WR-CALNAME:vallgorguina@vallgorguina.cat
X-WR-TIMEZONE:Europe/Madrid
DESCRIPTION:Inscripcions a les 16.45 hores, al mateix poliesportiu.

URI:https://www.vallgorguina.cat/actualitat/agenda/futbol-sala-infantil-118.html
CLASS:PUBLIC
END:VEVENT
END:VCALENDAR
