BEGIN:VCALENDAR
VERSION:2.0
CALSCALE:GREGORIAN
PRODID:-//Diputació de Barcelona//DibaCMS//EN
BEGIN:VEVENT
UID:9655
DTSTAMP:20260423T062131
DTSTART:20220816T170000
DTEND:20220816T193000
SUMMARY:Futbol sala infantil 16/8
LOCATION:
METHOD:PUBLISH
X-WR-CALNAME:vallgorguina@vallgorguina.cat
X-WR-TIMEZONE:Europe/Madrid
DESCRIPTION:Inscripcions a les 16.45 hores, al mateix poliesportiu.

URI:https://www.vallgorguina.cat/actualitat/agenda/futbol-sala-infantil-168.html
CLASS:PUBLIC
END:VEVENT
END:VCALENDAR
