BEGIN:VCALENDAR
VERSION:2.0
CALSCALE:GREGORIAN
PRODID:-//Diputació de Barcelona//DibaCMS//EN
BEGIN:VEVENT
UID:9661
DTSTAMP:20260422T212944
DTSTART:20220827T213000
DTEND:20220828T020000
SUMMARY:Sopar Fi d'Estiu
LOCATION:
METHOD:PUBLISH
X-WR-CALNAME:vallgorguina@vallgorguina.cat
X-WR-TIMEZONE:Europe/Madrid
DESCRIPTION:CAL INSCRIPCIÓ PRÈVIA, ABANS DEL DIA 25 D'AGOST DE 2022 (inscripcions)

URI:https://www.vallgorguina.cat/actualitat/agenda/9661-sopar-fi-destiu.html
CLASS:PUBLIC
END:VEVENT
END:VCALENDAR
