BEGIN:VCALENDAR
VERSION:2.0
CALSCALE:GREGORIAN
PRODID:-//Diputació de Barcelona//DibaCMS//EN
BEGIN:VEVENT
UID:9677
DTSTAMP:20260422T230107
DTSTART:20220903T210000
DTEND:20220903T230000
SUMMARY:Sopar de Carmanyola de preparació de la Diada 2022
LOCATION:
METHOD:PUBLISH
X-WR-CALNAME:vallgorguina@vallgorguina.cat
X-WR-TIMEZONE:Europe/Madrid
DESCRIPTION:
URI:https://www.vallgorguina.cat/actualitat/agenda/sopar-de-carmanyola-de-preparacio-de-la-diada-2022.html
CLASS:PUBLIC
END:VEVENT
END:VCALENDAR
