BEGIN:VCALENDAR
VERSION:2.0
CALSCALE:GREGORIAN
PRODID:-//Diputació de Barcelona//DibaCMS//EN
BEGIN:VEVENT
UID:9683
DTSTAMP:20260422T224723
DTSTART:20220924T220000
DTEND:20220924T234500
SUMMARY:Teatre Festa Major - Bojos pel bisturí
LOCATION:
METHOD:PUBLISH
X-WR-CALNAME:vallgorguina@vallgorguina.cat
X-WR-TIMEZONE:Europe/Madrid
DESCRIPTION:
URI:https://www.vallgorguina.cat/actualitat/agenda/teatre-festa-major-bojos-pel-bisturi.html
CLASS:PUBLIC
END:VEVENT
END:VCALENDAR
