BEGIN:VCALENDAR
VERSION:2.0
CALSCALE:GREGORIAN
PRODID:-//Diputació de Barcelona//DibaCMS//EN
BEGIN:VEVENT
UID:9684
DTSTAMP:20260423T083109
DTSTART:20220917T200000
DTEND:20220917T200000
SUMMARY:El Circ del Sol - Festival de patinatge
LOCATION:
METHOD:PUBLISH
X-WR-CALNAME:vallgorguina@vallgorguina.cat
X-WR-TIMEZONE:Europe/Madrid
DESCRIPTION:
URI:https://www.vallgorguina.cat/actualitat/agenda/el-circ-del-sol-festival-de-patinatge.html
CLASS:PUBLIC
END:VEVENT
END:VCALENDAR
