BEGIN:VCALENDAR
VERSION:2.0
CALSCALE:GREGORIAN
PRODID:-//Diputació de Barcelona//DibaCMS//EN
BEGIN:VEVENT
UID:9692
DTSTAMP:20260422T213438
DTSTART:20221008T180000
DTEND:20221008T200000
SUMMARY:Taller "Creem una castanya"
LOCATION:
METHOD:PUBLISH
X-WR-CALNAME:vallgorguina@vallgorguina.cat
X-WR-TIMEZONE:Europe/Madrid
DESCRIPTION:
URI:https://www.vallgorguina.cat/actualitat/agenda/taller-creem-una-castanya.html
CLASS:PUBLIC
END:VEVENT
END:VCALENDAR
