BEGIN:VCALENDAR
VERSION:2.0
CALSCALE:GREGORIAN
PRODID:-//Diputació de Barcelona//DibaCMS//EN
BEGIN:VEVENT
UID:9796
DTSTAMP:20260422T172740
DTSTART:20221210T193000
DTEND:20221210T210000
SUMMARY:Concert de Nadal Coral Gospel El Caliu Vallgorguina
LOCATION:
METHOD:PUBLISH
X-WR-CALNAME:vallgorguina@vallgorguina.cat
X-WR-TIMEZONE:Europe/Madrid
DESCRIPTION:
URI:https://www.vallgorguina.cat/actualitat/agenda/concert-de-nadal-coral-gospel-el-caliu-vallgorguina.html
CLASS:PUBLIC
END:VEVENT
END:VCALENDAR
