BEGIN:VCALENDAR
VERSION:2.0
CALSCALE:GREGORIAN
PRODID:-//Diputació de Barcelona//DibaCMS//EN
BEGIN:VEVENT
UID:9850
DTSTAMP:20260422T132251
DTSTART:20230226T103000
DTEND:20230226T103000
SUMMARY:Els 3 tombs
LOCATION:
METHOD:PUBLISH
X-WR-CALNAME:vallgorguina@vallgorguina.cat
X-WR-TIMEZONE:Europe/Madrid
DESCRIPTION:
URI:https://www.vallgorguina.cat/actualitat/agenda/els-3-tombs.html
CLASS:PUBLIC
END:VEVENT
END:VCALENDAR
