BEGIN:VCALENDAR
VERSION:2.0
CALSCALE:GREGORIAN
PRODID:-//Diputació de Barcelona//DibaCMS//EN
BEGIN:VEVENT
UID:9851
DTSTAMP:20260422T132310
DTSTART:20230423T090000
DTEND:20230423T090000
SUMMARY:Diada de Sant Jordi: Taller una rosa per Sant Jordi
LOCATION:
METHOD:PUBLISH
X-WR-CALNAME:vallgorguina@vallgorguina.cat
X-WR-TIMEZONE:Europe/Madrid
DESCRIPTION:
URI:https://www.vallgorguina.cat/actualitat/agenda/diada-de-sant-jordi-taller-una-rosa-per-sant-jordi.html
CLASS:PUBLIC
END:VEVENT
END:VCALENDAR
