BEGIN:VCALENDAR
VERSION:2.0
CALSCALE:GREGORIAN
PRODID:-//Diputació de Barcelona//DibaCMS//EN
BEGIN:VEVENT
UID:9900
DTSTAMP:20260422T131647
DTSTART:20230310T190000
DTEND:20230310T210000
SUMMARY:Setmana de la Dona - Pel·lícula
LOCATION:Sala d'exposicions 
METHOD:PUBLISH
X-WR-CALNAME:vallgorguina@vallgorguina.cat
X-WR-TIMEZONE:Europe/Madrid
DESCRIPTION:Pel·lícula: Hidden Figures

URI:https://www.vallgorguina.cat/actualitat/agenda/setmana-de-la-dona-pellicula.html
CLASS:PUBLIC
END:VEVENT
END:VCALENDAR
