BEGIN:VCALENDAR
VERSION:2.0
CALSCALE:GREGORIAN
PRODID:-//Diputació de Barcelona//DibaCMS//EN
BEGIN:VEVENT
UID:9912
DTSTAMP:20260422T184148
DTSTART:20230325T170000
DTEND:20230325T190000
SUMMARY:Assemblea General de l'Associació Casal Caliu El Dolmen
LOCATION:
METHOD:PUBLISH
X-WR-CALNAME:vallgorguina@vallgorguina.cat
X-WR-TIMEZONE:Europe/Madrid
DESCRIPTION:
URI:https://www.vallgorguina.cat/actualitat/agenda/assemblea-general-de-lassociacio-casal-caliu-el-dolmen.html
CLASS:PUBLIC
END:VEVENT
END:VCALENDAR
