BEGIN:VCALENDAR
VERSION:2.0
CALSCALE:GREGORIAN
PRODID:-//Diputació de Barcelona//DibaCMS//EN
BEGIN:VEVENT
UID:9913
DTSTAMP:20260422T112541
DTSTART:20230408T180000
DTEND:20230408T200000
SUMMARY:Presentació del llibre 60 ermites del Montnegre i el Corredor
LOCATION:
METHOD:PUBLISH
X-WR-CALNAME:vallgorguina@vallgorguina.cat
X-WR-TIMEZONE:Europe/Madrid
DESCRIPTION:
URI:https://www.vallgorguina.cat/actualitat/agenda/presentacio-del-llibre-60-ermites-del-montnegre-i-el-corredor.html
CLASS:PUBLIC
END:VEVENT
END:VCALENDAR
