BEGIN:VCALENDAR
VERSION:2.0
CALSCALE:GREGORIAN
PRODID:-//Diputació de Barcelona//DibaCMS//EN
BEGIN:VEVENT
UID:9915
DTSTAMP:20260422T091420
DTSTART:20230422T170000
DTEND:20230422T190000
SUMMARY:Diada de Sant Jordi: Taller Estampem samarretes
LOCATION:
METHOD:PUBLISH
X-WR-CALNAME:vallgorguina@vallgorguina.cat
X-WR-TIMEZONE:Europe/Madrid
DESCRIPTION:
URI:https://www.vallgorguina.cat/actualitat/agenda/diada-de-sant-jordi-taller-estampem-samarretes.html
CLASS:PUBLIC
END:VEVENT
END:VCALENDAR
