BEGIN:VCALENDAR
VERSION:2.0
CALSCALE:GREGORIAN
PRODID:-//Diputació de Barcelona//DibaCMS//EN
BEGIN:VEVENT
UID:9935
DTSTAMP:20260422T145506
DTSTART:20230402T103000
DTEND:20230402T130000
SUMMARY:Setmana Santa 2023
LOCATION:
METHOD:PUBLISH
X-WR-CALNAME:vallgorguina@vallgorguina.cat
X-WR-TIMEZONE:Europe/Madrid
DESCRIPTION:
URI:https://www.vallgorguina.cat/actualitat/agenda/setmana-santa-2023.html
CLASS:PUBLIC
END:VEVENT
END:VCALENDAR
