BEGIN:VCALENDAR
VERSION:2.0
CALSCALE:GREGORIAN
PRODID:-//Diputació de Barcelona//DibaCMS//EN
BEGIN:VEVENT
UID:9937
DTSTAMP:20260422T125600
DTSTART:20230407T120000
DTEND:20230407T130000
SUMMARY:Setmana Santa 2023 
LOCATION:
METHOD:PUBLISH
X-WR-CALNAME:vallgorguina@vallgorguina.cat
X-WR-TIMEZONE:Europe/Madrid
DESCRIPTION:
URI:https://www.vallgorguina.cat/actualitat/agenda/9937-setmana-santa-2023-.html
CLASS:PUBLIC
END:VEVENT
END:VCALENDAR
