BEGIN:VCALENDAR
VERSION:2.0
CALSCALE:GREGORIAN
PRODID:-//Diputació de Barcelona//DibaCMS//EN
BEGIN:VEVENT
UID:9972
DTSTAMP:20260422T090605
DTSTART:20230513T170000
DTEND:20230513T180000
SUMMARY:Diverteix-te! Tallers creatius «Em pinto et pinto»
LOCATION:
METHOD:PUBLISH
X-WR-CALNAME:vallgorguina@vallgorguina.cat
X-WR-TIMEZONE:Europe/Madrid
DESCRIPTION:
URI:https://www.vallgorguina.cat/actualitat/agenda/diverteix-te-tallers-creatius-em-pinto-et-pinto.html
CLASS:PUBLIC
END:VEVENT
END:VCALENDAR
