BEGIN:VCALENDAR
VERSION:2.0
CALSCALE:GREGORIAN
PRODID:-//Diputació de Barcelona//DibaCMS//EN
BEGIN:VEVENT
UID:9973
DTSTAMP:20260422T091348
DTSTART:20230603T170000
DTEND:20230603T180000
SUMMARY:Diverteix-te! Tallers creatius «Cossos artístics» 
LOCATION:
METHOD:PUBLISH
X-WR-CALNAME:vallgorguina@vallgorguina.cat
X-WR-TIMEZONE:Europe/Madrid
DESCRIPTION:
URI:https://www.vallgorguina.cat/actualitat/agenda/diverteix-te-tallers-creatius-cossos-artistics-.html
CLASS:PUBLIC
END:VEVENT
END:VCALENDAR
