BEGIN:VCALENDAR
VERSION:2.0
CALSCALE:GREGORIAN
PRODID:-//Diputació de Barcelona//DibaCMS//EN
BEGIN:VEVENT
UID:9980
DTSTAMP:20260422T110840
DTSTART:20230618T090000
DTEND:20230618T130000
SUMMARY:Caminem per l'Ela
LOCATION:
METHOD:PUBLISH
X-WR-CALNAME:vallgorguina@vallgorguina.cat
X-WR-TIMEZONE:Europe/Madrid
DESCRIPTION:
URI:https://www.vallgorguina.cat/actualitat/agenda/9980-caminem-per-lela.html
CLASS:PUBLIC
END:VEVENT
END:VCALENDAR
