BEGIN:VCALENDAR
VERSION:2.0
CALSCALE:GREGORIAN
PRODID:-//Diputació de Barcelona//DibaCMS//EN
BEGIN:VEVENT
UID:9987
DTSTAMP:20260422T090642
DTSTART:20230604T113000
DTEND:20230604T123000
SUMMARY:Xerrada solidfària sobre Rwanda a càrrec de Ramon Godino
LOCATION:
METHOD:PUBLISH
X-WR-CALNAME:vallgorguina@vallgorguina.cat
X-WR-TIMEZONE:Europe/Madrid
DESCRIPTION:
URI:https://www.vallgorguina.cat/actualitat/agenda/xerrada-solidfaria-sobre-rwanda-a-carrec-de-ramon-godino.html
CLASS:PUBLIC
END:VEVENT
END:VCALENDAR
