BEGIN:VCALENDAR
VERSION:2.0
CALSCALE:GREGORIAN
PRODID:-//Diputació de Barcelona//DibaCMS//EN
BEGIN:VEVENT
UID:9989
DTSTAMP:20260422T070903
DTSTART:20230603T100000
DTEND:20230603T133000
SUMMARY:Robotseny - Montquímic 2023
LOCATION:
METHOD:PUBLISH
X-WR-CALNAME:vallgorguina@vallgorguina.cat
X-WR-TIMEZONE:Europe/Madrid
DESCRIPTION:
URI:https://www.vallgorguina.cat/actualitat/agenda/robotseny-montquimic-2023.html
CLASS:PUBLIC
END:VEVENT
END:VCALENDAR
