BEGIN:VCALENDAR
VERSION:2.0
CALSCALE:GREGORIAN
PRODID:-//Diputació de Barcelona//DibaCMS//EN
BEGIN:VEVENT
UID:9990
DTSTAMP:20260422T151421
DTSTART:20230623T060000
DTEND:20230623T180000
SUMMARY:Vols venir a buscar la Flama del Canigó a Coll d'Ares?
LOCATION:
METHOD:PUBLISH
X-WR-CALNAME:vallgorguina@vallgorguina.cat
X-WR-TIMEZONE:Europe/Madrid
DESCRIPTION:
URI:https://www.vallgorguina.cat/actualitat/agenda/vols-venir-a-buscar-la-flama-del-canigo-a-coll-dares.html
CLASS:PUBLIC
END:VEVENT
END:VCALENDAR
